BEGIN:VCALENDAR
VERSION:2.0
PRODID:-//wp-events-plugin.com//7.2.3.1//EN
TZID:Europe/Amsterdam
X-WR-TIMEZONE:Europe/Amsterdam
BEGIN:VEVENT
UID:1022@hylketromp.zeilvaartwarmond.nl
DTSTART;TZID=Europe/Amsterdam:20260604T093000
DTEND;TZID=Europe/Amsterdam:20260604T180000
DTSTAMP:20260326T110956Z
URL:https://hylketromp.zeilvaartwarmond.nl/vaarprogramma/fitnessgroep-welk
 om/
SUMMARY:Fitnessgroep Welkom
DESCRIPTION:schipperstocht
ATTACH;FMTTYPE=image/jpeg:https://hylketromp.zeilvaartwarmond.nl/wp-conten
 t/uploads/2017/05/Hylke_Tromp_Header_2000x600.jpg
CATEGORIES:Schipperstocht
END:VEVENT
BEGIN:VTIMEZONE
TZID:Europe/Amsterdam
X-LIC-LOCATION:Europe/Amsterdam
BEGIN:DAYLIGHT
DTSTART:20260329T030000
TZOFFSETFROM:+0100
TZOFFSETTO:+0200
TZNAME:CEST
END:DAYLIGHT
END:VTIMEZONE
END:VCALENDAR