BEGIN:VCALENDAR
VERSION:2.0
PRODID:-//wp-events-plugin.com//7.2.3.1//EN
TZID:Europe/Amsterdam
X-WR-TIMEZONE:Europe/Amsterdam
BEGIN:VEVENT
UID:809@hylketromp.zeilvaartwarmond.nl
DTSTART;TZID=Europe/Amsterdam:20230910T120000
DTEND;TZID=Europe/Amsterdam:20230910T133000
DTSTAMP:20230824T122340Z
URL:https://hylketromp.zeilvaartwarmond.nl/vaarprogramma/open-monumentenda
 gen-6/
SUMMARY:Open Monumentendagen (6)
DESCRIPTION:De Hylke Tromp doet als erkend Varend Erfgoed natuurlijk mee aa
 n de Open Monumentendagen!\n\nTijdens dit weekend kunnen HONDERD mensen me
 t onze Kagenaar meezeilen!\n\nZowel op zaterdag als op zondag varen we van
 af de steiger bij het strandje bij het Joppe af om 10 uur\, 12 uur\, 14 uu
 r en 16 uur. Een tochtje duurt ongeveer 1\,5 uur en er kunnen per keer 12 
 personen mee.\nDe vrijwillige bemanning van de Hylke is blij om deze zeilt
 ochten gratis te kunnen aanbieden - maar het staat iedereen natuurlijk vri
 j om een vrijwillige bijdrage te geven voor onderhoud en verzekering van d
 e Hylke Tromp én het op die manier ook mogelijk te maken dat we gratis to
 chten aan GoedeDoelen kunnen blijven aanbieden \;-).\n\nIn dit weekend zij
 n ook de Schippertjesdagen Warmond - plan dus voor of na uw zeiltocht met 
 de Hylke Tromp wat extra tijd in om dit evenement te bezoeken!
ATTACH;FMTTYPE=image/jpeg:https://hylketromp.zeilvaartwarmond.nl/wp-conten
 t/uploads/2017/05/Hylke_Tromp_Header_2000x600.jpg
CATEGORIES:Vaarprogramma
END:VEVENT
BEGIN:VTIMEZONE
TZID:Europe/Amsterdam
X-LIC-LOCATION:Europe/Amsterdam
BEGIN:DAYLIGHT
DTSTART:20230326T030000
TZOFFSETFROM:+0100
TZOFFSETTO:+0200
TZNAME:CEST
END:DAYLIGHT
END:VTIMEZONE
END:VCALENDAR